BEGIN:VCALENDAR
VERSION:2.0
PRODID:-//Play Higher FC - ECPv6.3.3//NONSGML v1.0//EN
CALSCALE:GREGORIAN
METHOD:PUBLISH
X-ORIGINAL-URL:https://playhigher.com
X-WR-CALDESC:Events for Play Higher FC
REFRESH-INTERVAL;VALUE=DURATION:PT1H
X-Robots-Tag:noindex
X-PUBLISHED-TTL:PT1H
BEGIN:VTIMEZONE
TZID:UTC
BEGIN:STANDARD
TZOFFSETFROM:+0000
TZOFFSETTO:+0000
TZNAME:UTC
DTSTART:20210101T000000
END:STANDARD
END:VTIMEZONE
BEGIN:VEVENT
DTSTART;TZID=UTC:20210723T153000
DTEND;TZID=UTC:20210723T200000
DTSTAMP:20260421T202239
CREATED:20210701T000918Z
LAST-MODIFIED:20210701T000918Z
UID:1521-1627054200-1627070400@playhigher.com
SUMMARY:Free Play Friday
DESCRIPTION:3:30-5pm Youngers (2010-2008) \n5pm-6:30 Middles (07-06) \n6:30-8pm Olders (05+ / College & Professional) \n 
URL:https://playhigher.com/event/free-play-friday-4/
LOCATION:The Ranch\, 29251 Camino Capistrano\, San Juan Capistrano\, CA\, 92675\, United States
END:VEVENT
END:VCALENDAR