BEGIN:VCALENDAR
VERSION:2.0
PRODID:-//Play Higher FC - ECPv6.3.3//NONSGML v1.0//EN
CALSCALE:GREGORIAN
METHOD:PUBLISH
X-ORIGINAL-URL:https://playhigher.com
X-WR-CALDESC:Events for Play Higher FC
REFRESH-INTERVAL;VALUE=DURATION:PT1H
X-Robots-Tag:noindex
X-PUBLISHED-TTL:PT1H
BEGIN:VTIMEZONE
TZID:UTC
BEGIN:STANDARD
TZOFFSETFROM:+0000
TZOFFSETTO:+0000
TZNAME:UTC
DTSTART:20210101T000000
END:STANDARD
END:VTIMEZONE
BEGIN:VEVENT
DTSTART;VALUE=DATE:20211004
DTEND;VALUE=DATE:20211009
DTSTAMP:20260421T165630
CREATED:20211004T200759Z
LAST-MODIFIED:20211004T200759Z
UID:1570-1633305600-1633737599@playhigher.com
SUMMARY:Talent Mastery Training
DESCRIPTION:Invite Only by TM Contracts.
URL:https://playhigher.com/event/talent-mastery-training/
LOCATION:The Ranch\, 29251 Camino Capistrano\, San Juan Capistrano\, CA\, 92675\, United States
END:VEVENT
BEGIN:VEVENT
DTSTART;VALUE=DATE:20211008
DTEND;VALUE=DATE:20211009
DTSTAMP:20260421T165630
CREATED:20211004T200240Z
LAST-MODIFIED:20211004T200240Z
UID:1556-1633651200-1633737599@playhigher.com
SUMMARY:Free Play Friday
DESCRIPTION:4pm-5:30pm Youngers (2014-2008) \n5:30pm-7pm Middles (07-06) \n7pm-8:30pm Olders (05+ / College & Professional)
URL:https://playhigher.com/event/free-play-friday-5/
LOCATION:The Ranch\, 29251 Camino Capistrano\, San Juan Capistrano\, CA\, 92675\, United States
END:VEVENT
BEGIN:VEVENT
DTSTART;VALUE=DATE:20211008
DTEND;VALUE=DATE:20211010
DTSTAMP:20260421T165630
CREATED:20211004T201132Z
LAST-MODIFIED:20211004T201132Z
UID:1580-1633651200-1633823999@playhigher.com
SUMMARY:Wagner & Woolf Introduction
DESCRIPTION:Scouting by Wagner & Woolf.
URL:https://playhigher.com/event/wagner-woolf-introduction-2/
LOCATION:The Ranch\, 29251 Camino Capistrano\, San Juan Capistrano\, CA\, 92675\, United States
END:VEVENT
END:VCALENDAR