BEGIN:VCALENDAR
VERSION:2.0
PRODID:-//Play Higher FC - ECPv6.3.3//NONSGML v1.0//EN
CALSCALE:GREGORIAN
METHOD:PUBLISH
X-ORIGINAL-URL:https://playhigher.com
X-WR-CALDESC:Events for Play Higher FC
REFRESH-INTERVAL;VALUE=DURATION:PT1H
X-Robots-Tag:noindex
X-PUBLISHED-TTL:PT1H
BEGIN:VTIMEZONE
TZID:UTC
BEGIN:STANDARD
TZOFFSETFROM:+0000
TZOFFSETTO:+0000
TZNAME:UTC
DTSTART:20210101T000000
END:STANDARD
END:VTIMEZONE
BEGIN:VEVENT
DTSTART;VALUE=DATE:20211119
DTEND;VALUE=DATE:20211120
DTSTAMP:20260421T152724
CREATED:20211004T200637Z
LAST-MODIFIED:20211004T200637Z
UID:1568-1637280000-1637366399@playhigher.com
SUMMARY:Free Play Friday
DESCRIPTION:4pm-5:30pm Youngers (2014-2008) \n5:30pm-7pm Middles (07-06) \n7pm-8:30pm Olders (05+ / College & Professional)
URL:https://playhigher.com/event/free-play-friday-11/
LOCATION:The Ranch\, 29251 Camino Capistrano\, San Juan Capistrano\, CA\, 92675\, United States
END:VEVENT
END:VCALENDAR