BEGIN:VCALENDAR
VERSION:2.0
PRODID:-//Play Higher FC - ECPv6.3.3//NONSGML v1.0//EN
CALSCALE:GREGORIAN
METHOD:PUBLISH
X-WR-CALNAME:Play Higher FC
X-ORIGINAL-URL:https://playhigher.com
X-WR-CALDESC:Events for Play Higher FC
REFRESH-INTERVAL;VALUE=DURATION:PT1H
X-Robots-Tag:noindex
X-PUBLISHED-TTL:PT1H
BEGIN:VTIMEZONE
TZID:UTC
BEGIN:STANDARD
TZOFFSETFROM:+0000
TZOFFSETTO:+0000
TZNAME:UTC
DTSTART:20210101T000000
END:STANDARD
END:VTIMEZONE
BEGIN:VEVENT
DTSTART;VALUE=DATE:20211213
DTEND;VALUE=DATE:20211217
DTSTAMP:20260421T141307
CREATED:20211207T181807Z
LAST-MODIFIED:20211207T181807Z
UID:1598-1639353600-1639699199@playhigher.com
SUMMARY:Talent Mastery Training
DESCRIPTION:By TM Contract only.
URL:https://playhigher.com/event/talent-mastery-training-7/
LOCATION:The Ranch\, 29251 Camino Capistrano\, San Juan Capistrano\, CA\, 92675\, United States
END:VEVENT
END:VCALENDAR