BEGIN:VCALENDAR
VERSION:2.0
PRODID:-//Play Higher FC - ECPv6.3.3//NONSGML v1.0//EN
CALSCALE:GREGORIAN
METHOD:PUBLISH
X-ORIGINAL-URL:https://playhigher.com
X-WR-CALDESC:Events for Play Higher FC
REFRESH-INTERVAL;VALUE=DURATION:PT1H
X-Robots-Tag:noindex
X-PUBLISHED-TTL:PT1H
BEGIN:VTIMEZONE
TZID:UTC
BEGIN:STANDARD
TZOFFSETFROM:+0000
TZOFFSETTO:+0000
TZNAME:UTC
DTSTART:20210101T000000
END:STANDARD
END:VTIMEZONE
BEGIN:VEVENT
DTSTART;VALUE=DATE:20211218
DTEND;VALUE=DATE:20211219
DTSTAMP:20260421T141506
CREATED:20211207T183321Z
LAST-MODIFIED:20211207T183321Z
UID:1629-1639785600-1639871999@playhigher.com
SUMMARY:Campeonato Navideño
DESCRIPTION:Join us for our first annual Christmas Championship! \nCreate your own team of 5 players and register for the tournament: \nWinners will get a prize!
URL:https://playhigher.com/event/campeonato-navideno/
LOCATION:The Ranch\, 29251 Camino Capistrano\, San Juan Capistrano\, CA\, 92675\, United States
END:VEVENT
END:VCALENDAR