BEGIN:VCALENDAR
VERSION:2.0
PRODID:-//Play Higher FC - ECPv6.3.3//NONSGML v1.0//EN
CALSCALE:GREGORIAN
METHOD:PUBLISH
X-WR-CALNAME:Play Higher FC
X-ORIGINAL-URL:https://playhigher.com
X-WR-CALDESC:Events for Play Higher FC
REFRESH-INTERVAL;VALUE=DURATION:PT1H
X-Robots-Tag:noindex
X-PUBLISHED-TTL:PT1H
BEGIN:VTIMEZONE
TZID:UTC
BEGIN:STANDARD
TZOFFSETFROM:+0000
TZOFFSETTO:+0000
TZNAME:UTC
DTSTART:20210101T000000
END:STANDARD
END:VTIMEZONE
BEGIN:VEVENT
DTSTART;TZID=UTC:20210625T153000
DTEND;TZID=UTC:20210625T200000
DTSTAMP:20260422T015340
CREATED:20210613T021728Z
LAST-MODIFIED:20210613T022410Z
UID:1498-1624635000-1624651200@playhigher.com
SUMMARY:Free Play Training
DESCRIPTION:3:30-5pm Youngers (8-12 year olds) \n5pm-6:30 Middles (7th and 8th grade) \n6:30-8pm Olders (HS + College + Pro) \n 
URL:https://playhigher.com/event/free-play-training/
LOCATION:The Ranch\, 29251 Camino Capistrano\, San Juan Capistrano\, CA\, 92675\, United States
END:VEVENT
BEGIN:VEVENT
DTSTART;TZID=UTC:20210625T150000
DTEND;TZID=UTC:20210625T160000
DTSTAMP:20260422T015340
CREATED:20210613T023212Z
LAST-MODIFIED:20210613T023212Z
UID:1512-1624633200-1624636800@playhigher.com
SUMMARY:Wagner & Woolf Introduction
DESCRIPTION:Come meet our partners\,Wagner & Woolf who will help expand our athletes opportunities both in sports and academically.
URL:https://playhigher.com/event/wagner-woolf-introduction/
LOCATION:The Ranch\, 29251 Camino Capistrano\, San Juan Capistrano\, CA\, 92675\, United States
END:VEVENT
BEGIN:VEVENT
DTSTART;TZID=UTC:20210621T080000
DTEND;TZID=UTC:20210624T120000
DTSTAMP:20260422T015340
CREATED:20210613T022925Z
LAST-MODIFIED:20210614T223219Z
UID:1510-1624262400-1624536000@playhigher.com
SUMMARY:Pro Training
DESCRIPTION:Select Players
URL:https://playhigher.com/event/pro-training-2/
LOCATION:Shorecliffs Middle School\, 240 Via Socorro\, San Clemente\, CA\, 92672\, United States
END:VEVENT
BEGIN:VEVENT
DTSTART;TZID=UTC:20210618T153000
DTEND;TZID=UTC:20210618T200000
DTSTAMP:20260422T015340
CREATED:20210613T022323Z
LAST-MODIFIED:20210613T022323Z
UID:1502-1624030200-1624046400@playhigher.com
SUMMARY:Free Play Training
DESCRIPTION:3:30-5pm Youngers (8-12 year olds) \n5pm-6:30 Middles (7th and 8th grade) \n6:30-8pm Olders (HS + College + Pro) \n 
URL:https://playhigher.com/event/free-play-training-2/
LOCATION:Shorecliffs Middle School\, 240 Via Socorro\, San Clemente\, CA\, 92672\, United States
END:VEVENT
BEGIN:VEVENT
DTSTART;TZID=UTC:20210614T080000
DTEND;TZID=UTC:20210617T120000
DTSTAMP:20260422T015340
CREATED:20210613T022649Z
LAST-MODIFIED:20210614T223246Z
UID:1508-1623657600-1623931200@playhigher.com
SUMMARY:Pro Training
DESCRIPTION:Select Players
URL:https://playhigher.com/event/pro-training/
LOCATION:Shorecliffs Middle School\, 240 Via Socorro\, San Clemente\, CA\, 92672\, United States
END:VEVENT
END:VCALENDAR